BEGIN:VCALENDAR
VERSION:2.0
CALSCALE:GREGORIAN
PRODID:adamgibbons/ics
METHOD:PUBLISH
X-PUBLISHED-TTL:PT1H
BEGIN:VEVENT
UID:220@tucsontimeline.info
SUMMARY:Through A Glass Darkly at Wooden Tooth Records
DTSTAMP:20260423T115959Z
DTSTART:20250406T020000Z
DESCRIPTION:Arizona bands Through A Glass\, Darkly and Suicide Forest are j
	oined at the\ndowntown Wooden Tooth Records on Saturday\, April 5th by Atl
	anta based blackened\nsludge act Malevich.\n\nJoin us for a packed night o
	f atmospheric metal and post-rock. 7:00pm doors\,\n$12\, all ages entry.
URL:https://tucsontimeline.info/event/through-a-glass-darkly-at-wooden-toot
	h-records
GEO:32.2218;-110.97
LOCATION:Wooden Tooth Records - 102\, East Congress Street\, Tucson\, Arizo
	na
STATUS:CONFIRMED
CATEGORIES:black metal,desert drone,desertdrone,music,postrock
X-ALT-DESC;FMTTYPE=text/html:<p>Arizona bands Through A Glass, Darkly and S
	uicide Forest are joined at the downtown Wooden Tooth Records on Saturday,
	 April 5th by Atlanta based blackened sludge act Malevich.<br><br>Join us 
	for a packed night of atmospheric metal and post-rock. 7:00pm doors, $12, 
	all ages entry.</p>
END:VEVENT
END:VCALENDAR
